BEGIN:VCALENDAR
VERSION:2.0
PRODID:-//hacksw/handcal//NONSGML v1.0//EN
BEGIN:VEVENT
DTSTAMP:20230824T220000Z
DTSTART:20230824T220000Z
DTEND:20230824T220000Z
LOCATION:Eckernförde, Deutschland
SUMMARY:Verbandswerkstatt
END:VEVENT
END:VCALENDAR
