BEGIN:VCALENDAR
VERSION:2.0
PRODID:-//hacksw/handcal//NONSGML v1.0//EN
BEGIN:VEVENT
DTSTAMP:20210801T220000Z
DTSTART:20210801T220000Z
DTEND:20210805T220000Z
SUMMARY:Aktionswoche zum Thema Bildung
END:VEVENT
END:VCALENDAR
