BEGIN:VCALENDAR
VERSION:2.0
PRODID:-//hacksw/handcal//NONSGML v1.0//EN
BEGIN:VEVENT
DTSTAMP:20210114T160000Z
DTSTART:20210114T160000Z
DTEND:20210114T160000Z
LOCATION:Online auf Webex, Deutschland
SUMMARY:Corona-Talk mit Justizminister Claus Christian Clausen MdL
END:VEVENT
END:VCALENDAR
